BEGIN:VCALENDAR
VERSION:2.0
PRODID:-//CANA - ECPv6.15.15//NONSGML v1.0//EN
CALSCALE:GREGORIAN
METHOD:PUBLISH
X-ORIGINAL-URL:https://canainc.org
X-WR-CALDESC:Events for CANA
REFRESH-INTERVAL;VALUE=DURATION:PT1H
X-Robots-Tag:noindex
X-PUBLISHED-TTL:PT1H
BEGIN:VTIMEZONE
TZID:America/Halifax
BEGIN:DAYLIGHT
TZOFFSETFROM:-0400
TZOFFSETTO:-0300
TZNAME:ADT
DTSTART:20190310T060000
END:DAYLIGHT
BEGIN:STANDARD
TZOFFSETFROM:-0300
TZOFFSETTO:-0400
TZNAME:AST
DTSTART:20191103T050000
END:STANDARD
BEGIN:DAYLIGHT
TZOFFSETFROM:-0400
TZOFFSETTO:-0300
TZNAME:ADT
DTSTART:20200308T060000
END:DAYLIGHT
BEGIN:STANDARD
TZOFFSETFROM:-0300
TZOFFSETTO:-0400
TZNAME:AST
DTSTART:20201101T050000
END:STANDARD
BEGIN:DAYLIGHT
TZOFFSETFROM:-0400
TZOFFSETTO:-0300
TZNAME:ADT
DTSTART:20210314T060000
END:DAYLIGHT
BEGIN:STANDARD
TZOFFSETFROM:-0300
TZOFFSETTO:-0400
TZNAME:AST
DTSTART:20211107T050000
END:STANDARD
END:VTIMEZONE
BEGIN:VEVENT
DTSTART;VALUE=DATE:20200418
DTEND;VALUE=DATE:20200423
DTSTAMP:20260424T224729
CREATED:20191008T165912Z
LAST-MODIFIED:20200318T160506Z
UID:3271-1587168000-1587599999@canainc.org
SUMMARY:[CANCELED] AANA 2020 Mid-Year Assembly
DESCRIPTION:Update as of March 13\, 2020  — “The AANA has been actively monitoring developments related to the evolution of the Coronavirus Disease 2019 (COVID-19). To assess its current and potential impact\, the association has assembled an internal task force to consider guidelines provided by the World Health Organization\, the U.S. Centers for Disease Control and Prevention\, and state and local health organizations. \nGiven the latest health advisory in the Washington\, D.C.\, area\, the AANA Board of Directors has cancelled the 2020 Mid-Year Assembly\, scheduled for April 18-22. Registration cancellation fees will be fully refunded\, and hotel reservations made within the AANA hotel block will be cancelled. Participants are encouraged to contact their airline directly regarding ticketing. As we work to figure out next steps for Mid-Year Assembly programming\, we will be in touch soon with more information. \nPlease direct any questions pertaining to your Mid-Year Assembly registration to me******@**na.com. \nFor the latest on AANA COVID-19 clinical practice resources and information\, please visit AANA.com. \nThank You\, \nKate Jansky\, MHS\, CRNA\, APRN\, USA LTC (ret)\nPresident \nRandall D. Moore\, DNP\, MBA\, CRNA\nChief Executive Office” \nUpdate as of March 11\, 2020 — The World Health Organization declared the COVID-19 crisis a global pandemic. This unprecedented move will impact population health and our normal way of life for months to come. The California Association of Nurse Anesthetists (CANA) is responding to the pandemic by limiting COVID-19 exposure opportunities. This means canceling unnecessary travel and large gatherings and meetings. \nThe CANA Board has informed the AANA that CANA will be withdrawing from the conference given the pandemic. Member safety was (and remains) central to our decision. In addition\, several CRNA employers have issued domestic and international travel bans prohibiting CRNAs from attending these events. Most of the CANA leadership is impacted by an employer ban\, leaving few unaffected attendees. There is also a high probability that legislative offices will close or refuse appointments until the virus is adequately contained. \nFor any further updates about Mid-Year Assembly\, please watch for communications from the AANA or visit the AANA website: https://www.aana.com/meetings/2020-mya \n 
URL:https://us02web.zoom.us/webinar/register/WN_qLXnO5gHRGWgTCudnp4iLg
LOCATION:Renaissance Washington\, DC Downtown\,\, 999 9th St. NW\, Washington\, DC\, United States
ATTACH;FMTTYPE=image/png:https://canainc.org/wp-content/uploads/2019/02/2019mya_events_page_1170x280-copy.png
ORGANIZER;CN="AANA":MAILTO:meetings@aana.com
END:VEVENT
END:VCALENDAR