BEGIN:VCALENDAR
VERSION:2.0
PRODID:-//CANA - ECPv6.15.15//NONSGML v1.0//EN
CALSCALE:GREGORIAN
METHOD:PUBLISH
X-ORIGINAL-URL:https://canainc.org
X-WR-CALDESC:Events for CANA
REFRESH-INTERVAL;VALUE=DURATION:PT1H
X-Robots-Tag:noindex
X-PUBLISHED-TTL:PT1H
BEGIN:VTIMEZONE
TZID:America/Denver
BEGIN:DAYLIGHT
TZOFFSETFROM:-0700
TZOFFSETTO:-0600
TZNAME:MDT
DTSTART:20190310T090000
END:DAYLIGHT
BEGIN:STANDARD
TZOFFSETFROM:-0600
TZOFFSETTO:-0700
TZNAME:MST
DTSTART:20191103T080000
END:STANDARD
BEGIN:DAYLIGHT
TZOFFSETFROM:-0700
TZOFFSETTO:-0600
TZNAME:MDT
DTSTART:20200308T090000
END:DAYLIGHT
BEGIN:STANDARD
TZOFFSETFROM:-0600
TZOFFSETTO:-0700
TZNAME:MST
DTSTART:20201101T080000
END:STANDARD
BEGIN:DAYLIGHT
TZOFFSETFROM:-0700
TZOFFSETTO:-0600
TZNAME:MDT
DTSTART:20210314T090000
END:DAYLIGHT
BEGIN:STANDARD
TZOFFSETFROM:-0600
TZOFFSETTO:-0700
TZNAME:MST
DTSTART:20211107T080000
END:STANDARD
END:VTIMEZONE
BEGIN:VEVENT
DTSTART;VALUE=DATE:20200303
DTEND;VALUE=DATE:20200304
DTSTAMP:20260425T013542
CREATED:20191008T165205Z
LAST-MODIFIED:20200131T231042Z
UID:3266-1583193600-1583279999@canainc.org
SUMMARY:CANA 2020 Lobby Day
DESCRIPTION:Mark your calendar for CANA’s annual lobby day in Sacramento: Tuesday\, March 3\, 2019. All CANA member CRNAs and SRNAs are encouraged to attend and join us for educational sessions followed by legislative visits at the Capitol. \nSchedule \nAll participants should please plan to attend the following activities from 10:00am-4:00pm.  \n10:00am-12:00pm – Educational Presentations\nCANA’s lobbyists will provide a briefing of the days events\, the dos and don’ts of lobbying and there will be presentations by several guest speakers. \n12:00pm – Lunch Provided & Walk to Capitol \n1:00-4:00pm – Legislative Visits\nAll members will be divided into small groups to attend scheduled visits with legislators and staff in their Sacramento offices \nRegistration\nThere is no cost to attend\, however advance registration is required so that participants can be assigned to groups. Please complete the form below if you plan to attend.
URL:https://us02web.zoom.us/webinar/register/WN_qLXnO5gHRGWgTCudnp4iLg
LOCATION:Capitol Events Center\, 1020 11th St.\, Sacramento\, CA\, 95814\, United States
ATTACH;FMTTYPE=image/jpeg:https://canainc.org/wp-content/uploads/2019/10/state-capitol-of-california.jpg
ORGANIZER;CN="CANA":MAILTO:info@canainc.org
END:VEVENT
END:VCALENDAR