BEGIN:VCALENDAR
VERSION:2.0
PRODID:-//CANA - ECPv6.15.15//NONSGML v1.0//EN
CALSCALE:GREGORIAN
METHOD:PUBLISH
X-ORIGINAL-URL:https://canainc.org
X-WR-CALDESC:Events for CANA
REFRESH-INTERVAL;VALUE=DURATION:PT1H
X-Robots-Tag:noindex
X-PUBLISHED-TTL:PT1H
BEGIN:VTIMEZONE
TZID:America/Los_Angeles
BEGIN:DAYLIGHT
TZOFFSETFROM:-0800
TZOFFSETTO:-0700
TZNAME:PDT
DTSTART:20180311T100000
END:DAYLIGHT
BEGIN:STANDARD
TZOFFSETFROM:-0700
TZOFFSETTO:-0800
TZNAME:PST
DTSTART:20181104T090000
END:STANDARD
BEGIN:DAYLIGHT
TZOFFSETFROM:-0800
TZOFFSETTO:-0700
TZNAME:PDT
DTSTART:20190310T100000
END:DAYLIGHT
BEGIN:STANDARD
TZOFFSETFROM:-0700
TZOFFSETTO:-0800
TZNAME:PST
DTSTART:20191103T090000
END:STANDARD
BEGIN:DAYLIGHT
TZOFFSETFROM:-0800
TZOFFSETTO:-0700
TZNAME:PDT
DTSTART:20200308T100000
END:DAYLIGHT
BEGIN:STANDARD
TZOFFSETFROM:-0700
TZOFFSETTO:-0800
TZNAME:PST
DTSTART:20201101T090000
END:STANDARD
END:VTIMEZONE
BEGIN:VEVENT
DTSTART;TZID=America/Los_Angeles:20190315T120000
DTEND;TZID=America/Los_Angeles:20190317T130000
DTSTAMP:20260425T203234
CREATED:20190201T215805Z
LAST-MODIFIED:20190201T215805Z
UID:2482-1552651200-1552827600@canainc.org
SUMMARY:CANA 2019 Spring Meeting
DESCRIPTION:The CANA Spring Meeting offers our member-owners and non-members an opportunity to network with like-minded professionals and gain further knowledge and skills to further their patient care in the ever-changing healthcare environment.
URL:https://us02web.zoom.us/webinar/register/WN_qLXnO5gHRGWgTCudnp4iLg
LOCATION:Monterey Marriott\, 350 Calle Principal\, Monterey\, CA\, 93940\, United States
ATTACH;FMTTYPE=image/png:https://canainc.org/wp-content/uploads/2019/01/CANA-Spring-2019-Image.png
ORGANIZER;CN="CANA":MAILTO:info@canainc.org
END:VEVENT
END:VCALENDAR